BEGIN:VCALENDAR
VERSION:2.0
PRODID:-//drupal/agenda//NONSGML v1.0//EN
CALSCALE:GREGORIAN
BEGIN:VEVENT
UID:frevent526-54th-centr-technical-workshop
DTSTAMP:20260421T104953
DESCRIPTION:
URL;VALUE=URI:https://www.restena.lu/fr/event/526-54th-centr-technical-workshop
SUMMARY:54th CENTR Technical workshop
DTSTART;TZID=UTC:20260408T070000
DTEND;TZID=UTC:20260409T110000
END:VEVENT
END:VCALENDAR
